BEGIN:VCALENDAR
VERSION:2.0
PRODID:-//Kino Tuškanac//Filmski programi//HR
BEGIN:VEVENT
UID:3a7178b0cc3ed9e4d6f1384873fa80e6@kinotuskanac.hr
DTSTAMP:20260420T200115Z
DTSTART:20181003T210000
DTEND:20181003T230000
SUMMARY:Srbenka
LOCATION:Kino Tuškanac
DESCRIPTION:Hrvatska, 2018 | Mjesto prikazivanja filma: Kulturno informativni centar KIC (Preradovićeva ul. 5) R: Nebojša Slijepčević
END:VEVENT
END:VCALENDAR