BEGIN:VCALENDAR
VERSION:2.0
PRODID:-//Kino Tuškanac//Filmski programi//HR
BEGIN:VEVENT
UID:c29950b6665f76ccb95b09eba956db88@kinotuskanac.hr
DTSTAMP:20260420T202355Z
DTSTART:20181003T190000
DTEND:20181003T210000
SUMMARY:Puskás Mađarska
LOCATION:Kino Tuškanac
DESCRIPTION:Puskás Hungary, Mađarska, 2009 R: Tamás Almási
END:VEVENT
END:VCALENDAR