BEGIN:VCALENDAR
VERSION:2.0
PRODID:-//Kino Tuškanac//Filmski programi//HR
BEGIN:VEVENT
UID:fe86a70116066df7d343591e1da0b17c@kinotuskanac.hr
DTSTAMP:20260421T185042Z
DTSTART:20181016T190000
DTEND:20181016T210000
SUMMARY:Bijela ptica s crnim oznakama
LOCATION:Kino Tuškanac
DESCRIPTION:Bilyi ptakh z chornoju oznakoyu, 1971 R: Jurij Iljenko
END:VEVENT
END:VCALENDAR