BEGIN:VCALENDAR
VERSION:2.0
PRODID:-//Kino Tuškanac//Filmski programi//HR
BEGIN:VEVENT
UID:c6f1acbd0aed518c0a725cff7637d81d@kinotuskanac.hr
DTSTAMP:20260421T185147Z
DTSTART:20181017T190000
DTEND:20181017T210000
SUMMARY:Kameni križ
LOCATION:Kino Tuškanac
DESCRIPTION:Kaminnyi hrest, 1968 R: Leonid Osyka
END:VEVENT
END:VCALENDAR