BEGIN:VCALENDAR
VERSION:2.0
PRODID:-//Kino Tuškanac//Filmski programi//HR
BEGIN:VEVENT
UID:3d45c75c18b92c6ccbce032bb479e7d5@kinotuskanac.hr
DTSTAMP:20260421T092630Z
DTSTART:20050307T200000
DTEND:20050307T220000
SUMMARY:Mrtva priroda
LOCATION:Kino Tuškanac
DESCRIPTION:Tabi'at-e Bijan, 1974 R: Sohrab Sales
END:VEVENT
END:VCALENDAR