BEGIN:VCALENDAR
VERSION:2.0
PRODID:-//Kino Tuškanac//Filmski programi//HR
BEGIN:VEVENT
UID:a7595e9083212705a7b4eea0dbcab2bc@kinotuskanac.hr
DTSTAMP:20260421T093238Z
DTSTART:20050308T190000
DTEND:20050308T210000
SUMMARY:Mrtva priroda
LOCATION:Kino Tuškanac
DESCRIPTION:Tabi'at-e Bijan, 1974 R: Sohrab Sales
END:VEVENT
END:VCALENDAR