BEGIN:VCALENDAR
VERSION:2.0
PRODID:-//Kino Tuškanac//Filmski programi//HR
BEGIN:VEVENT
UID:5a890d1ca21c3c6403e50610105e74bc@kinotuskanac.hr
DTSTAMP:20260424T171104Z
DTSTART:20181030T190000
DTEND:20181030T210000
SUMMARY:Noć živih mrtvaca
LOCATION:Kino Tuškanac
DESCRIPTION:Night of the Living Dead, SAD, 1968 R: George A. Romero
END:VEVENT
END:VCALENDAR