BEGIN:VCALENDAR
VERSION:2.0
PRODID:-//Kino Tuškanac//Filmski programi//HR
BEGIN:VEVENT
UID:72c5994070fe53782d4f69f064c58979@kinotuskanac.hr
DTSTAMP:20260423T090809Z
DTSTART:20181104T190000
DTEND:20181104T210000
SUMMARY:New York, New York
LOCATION:Kino Tuškanac
DESCRIPTION:SAD, 1977 R: Martin Scorsese
END:VEVENT
END:VCALENDAR