BEGIN:VCALENDAR
VERSION:2.0
PRODID:-//Kino Tuškanac//Filmski programi//HR
BEGIN:VEVENT
UID:edd6a3d588e1d90550c40b14ba07841f@kinotuskanac.hr
DTSTAMP:20260421T142506Z
DTSTART:20181105T190000
DTEND:20181105T210000
SUMMARY:Razjareni bik
LOCATION:Kino Tuškanac
DESCRIPTION:Raging Bull, SAD, 1980 R: Martin Scorsese
END:VEVENT
END:VCALENDAR