BEGIN:VCALENDAR
VERSION:2.0
PRODID:-//Kino Tuškanac//Filmski programi//HR
BEGIN:VEVENT
UID:509d718310fdeb469ce6d0ce8470d69e@kinotuskanac.hr
DTSTAMP:20260421T093042Z
DTSTART:20181105T211500
DTEND:20181105T231500
SUMMARY:Tko to kuca na moja vrata?
LOCATION:Kino Tuškanac
DESCRIPTION:Who's That Knocking At My Door?, SAD, 1967 R: Martin Scorsese
END:VEVENT
END:VCALENDAR