BEGIN:VCALENDAR
VERSION:2.0
PRODID:-//Kino Tuškanac//Filmski programi//HR
BEGIN:VEVENT
UID:7a803b26377acb3702493a6a3ad49778@kinotuskanac.hr
DTSTAMP:20260421T080337Z
DTSTART:20181106T190000
DTEND:20181106T210000
SUMMARY:Posljednje Kristovo iskušenje
LOCATION:Kino Tuškanac
DESCRIPTION:The Last Temptation of Christ, SAD, Kanada, 1988 R: Martin Scorsese
END:VEVENT
END:VCALENDAR