BEGIN:VCALENDAR
VERSION:2.0
PRODID:-//Kino Tuškanac//Filmski programi//HR
BEGIN:VEVENT
UID:a9a1916127c602ddd56478bf2d078c1b@kinotuskanac.hr
DTSTAMP:20260421T154206Z
DTSTART:20181107T210000
DTEND:20181107T230000
SUMMARY:Kralj komedije
LOCATION:Kino Tuškanac
DESCRIPTION:The King of Comedy, SAD, 1982 R: Martin Scorsese
END:VEVENT
END:VCALENDAR