BEGIN:VCALENDAR
VERSION:2.0
PRODID:-//Kino Tuškanac//Filmski programi//HR
BEGIN:VEVENT
UID:8533ee9c87935dd20b0a5a70e8ee0314@kinotuskanac.hr
DTSTAMP:20260424T170437Z
DTSTART:20181119T190000
DTEND:20181119T210000
SUMMARY:Careva gola vojska maršira naprijed
LOCATION:Kino Tuškanac
DESCRIPTION:The Emperor's Naked Army Marches On, Japan, 1987 R: Kazuo Hara
END:VEVENT
END:VCALENDAR