BEGIN:VCALENDAR
VERSION:2.0
PRODID:-//Kino Tuškanac//Filmski programi//HR
BEGIN:VEVENT
UID:7fb343a3f8cc12206bd15a2ba86e9906@kinotuskanac.hr
DTSTAMP:20260421T133827Z
DTSTART:20181214T210000
DTEND:20181214T230000
SUMMARY:Ljetnikovac
LOCATION:Kino Tuškanac
DESCRIPTION:Hrvatska, 2018 R: Damir Čučić
END:VEVENT
END:VCALENDAR