BEGIN:VCALENDAR
VERSION:2.0
PRODID:-//Kino Tuškanac//Filmski programi//HR
BEGIN:VEVENT
UID:08e92b3ce1a0f009eb5fb38435da34c5@kinotuskanac.hr
DTSTAMP:20260421T134008Z
DTSTART:20181215T210000
DTEND:20181215T230000
SUMMARY:Ljetnikovac
LOCATION:Kino Tuškanac
DESCRIPTION:Hrvatska, 2018 R: Damir Čučić
END:VEVENT
END:VCALENDAR