BEGIN:VCALENDAR
VERSION:2.0
PRODID:-//Kino Tuškanac//Filmski programi//HR
BEGIN:VEVENT
UID:87d70739c61baf754652e8d8303df0c8@kinotuskanac.hr
DTSTAMP:20260421T133726Z
DTSTART:20181216T210000
DTEND:20181216T230000
SUMMARY:Ljetnikovac
LOCATION:Kino Tuškanac
DESCRIPTION:Hrvatska, 2018 R: Damir Čučić
END:VEVENT
END:VCALENDAR