BEGIN:VCALENDAR
VERSION:2.0
PRODID:-//Kino Tuškanac//Filmski programi//HR
BEGIN:VEVENT
UID:c359191c31fad5062be280764bb4818a@kinotuskanac.hr
DTSTAMP:20260421T093104Z
DTSTART:20190118T210000
DTEND:20190118T230000
SUMMARY:Život O'Haru, galantne žene
LOCATION:Kino Tuškanac
DESCRIPTION:Saikaku ichidai onna, Japan, 1952 R: Kenji Mizoguchi
END:VEVENT
END:VCALENDAR