BEGIN:VCALENDAR
VERSION:2.0
PRODID:-//Kino Tuškanac//Filmski programi//HR
BEGIN:VEVENT
UID:0274e3384f9d030363a65ccf16c8b981@kinotuskanac.hr
DTSTAMP:20260419T142133Z
DTSTART:20190119T190000
DTEND:20190119T210000
SUMMARY:Legenda o raspetim ljubavnicima
LOCATION:Kino Tuškanac
DESCRIPTION:Chikamatsu monogatari, Japan, 1954 R: Kenji Mizoguchi
END:VEVENT
END:VCALENDAR