BEGIN:VCALENDAR
VERSION:2.0
PRODID:-//Kino Tuškanac//Filmski programi//HR
BEGIN:VEVENT
UID:3a41e3ecd4d262e7a1a9c200acfbf133@kinotuskanac.hr
DTSTAMP:20260420T172026Z
DTSTART:20190123T190000
DTEND:20190123T210000
SUMMARY:S istoka
LOCATION:Kino Tuškanac
DESCRIPTION:D’est, Francuska,  Belgija, 1993 R: Chantal Akerman
END:VEVENT
END:VCALENDAR