BEGIN:VCALENDAR
VERSION:2.0
PRODID:-//Kino Tuškanac//Filmski programi//HR
BEGIN:VEVENT
UID:896ae46e118d932f6190939b3fc10f14@kinotuskanac.hr
DTSTAMP:20260425T020543Z
DTSTART:20190212T190000
DTEND:20190212T210000
SUMMARY:Žena bez glave
LOCATION:Kino Tuškanac
DESCRIPTION:La mujer sin cabeza, Argentina, Francuska, Italija, Španjolska, 2008 R: Lucrecia Martel
END:VEVENT
END:VCALENDAR