BEGIN:VCALENDAR
VERSION:2.0
PRODID:-//Kino Tuškanac//Filmski programi//HR
BEGIN:VEVENT
UID:b9355129355cd7df0f93a101390ccf46@kinotuskanac.hr
DTSTAMP:20260420T154532Z
DTSTART:20050412T210000
DTEND:20050412T230000
SUMMARY:Vrtlarev pas
LOCATION:Kino Tuškanac
DESCRIPTION:El perro del hortelano, 1996 R: Pilar Miró
END:VEVENT
END:VCALENDAR