BEGIN:VCALENDAR
VERSION:2.0
PRODID:-//Kino Tuškanac//Filmski programi//HR
BEGIN:VEVENT
UID:f8efb95a65001b888b7d623cd3263a5a@kinotuskanac.hr
DTSTAMP:20260421T093235Z
DTSTART:20190225T190000
DTEND:20190225T210000
SUMMARY:Živjeće ovaj narod
LOCATION:Kino Tuškanac
DESCRIPTION:Jugoslavija, 1947 R: Nikola Popović
END:VEVENT
END:VCALENDAR