BEGIN:VCALENDAR
VERSION:2.0
PRODID:-//Kino Tuškanac//Filmski programi//HR
BEGIN:VEVENT
UID:b3159e42243cdde9dc25fa7086c791c3@kinotuskanac.hr
DTSTAMP:20260420T071314Z
DTSTART:20190221T190000
DTEND:20190221T210000
SUMMARY:Yella
LOCATION:Kino Tuškanac
DESCRIPTION:Njemačka, 2007 R: Christian Petzold
END:VEVENT
END:VCALENDAR