BEGIN:VCALENDAR
VERSION:2.0
PRODID:-//Kino Tuškanac//Filmski programi//HR
BEGIN:VEVENT
UID:9dedcbca14b8aa55687fb776e7c91d31@kinotuskanac.hr
DTSTAMP:20260422T171100Z
DTSTART:20190224T210000
DTEND:20190224T230000
SUMMARY:Feniks
LOCATION:Kino Tuškanac
DESCRIPTION:Phoenix, Njemačka, Poljska, 2014 R: Christian Petzold
END:VEVENT
END:VCALENDAR