BEGIN:VCALENDAR
VERSION:2.0
PRODID:-//Kino Tuškanac//Filmski programi//HR
BEGIN:VEVENT
UID:83946c653a789f4cbbaf74ddac876673@kinotuskanac.hr
DTSTAMP:20260419T141941Z
DTSTART:20190227T210000
DTEND:20190227T230000
SUMMARY:Baby Doll
LOCATION:Kino Tuškanac
DESCRIPTION:SAD, 1956 R: Elia Kazan
END:VEVENT
END:VCALENDAR