BEGIN:VCALENDAR
VERSION:2.0
PRODID:-//Kino Tuškanac//Filmski programi//HR
BEGIN:VEVENT
UID:b7a8a898c65e1f00506125cbd5cdc1a5@kinotuskanac.hr
DTSTAMP:20260423T112409Z
DTSTART:20190228T210000
DTEND:20190228T230000
SUMMARY:Bumerang (1947)
LOCATION:Kino Tuškanac
DESCRIPTION:Boomerang!, SAD, 1947 R: Elia Kazan
END:VEVENT
END:VCALENDAR