BEGIN:VCALENDAR
VERSION:2.0
PRODID:-//Kino Tuškanac//Filmski programi//HR
BEGIN:VEVENT
UID:b860ef109400c5f99ba779ebbce5546d@kinotuskanac.hr
DTSTAMP:20260423T150340Z
DTSTART:20190301T210000
DTEND:20190301T230000
SUMMARY:Džentlmenski sporazum
LOCATION:Kino Tuškanac
DESCRIPTION:Gentleman’s Agreement, SAD, 1947 R: Elia Kazan
END:VEVENT
END:VCALENDAR