BEGIN:VCALENDAR
VERSION:2.0
PRODID:-//Kino Tuškanac//Filmski programi//HR
BEGIN:VEVENT
UID:61bee6513007665e1bf06215225e04d3@kinotuskanac.hr
DTSTAMP:20260423T112404Z
DTSTART:20190303T190000
DTEND:20190303T210000
SUMMARY:Amerika, Amerika
LOCATION:Kino Tuškanac
DESCRIPTION:America, America, SAD, 1963 R: Elia Kazan
END:VEVENT
END:VCALENDAR