BEGIN:VCALENDAR
VERSION:2.0
PRODID:-//Kino Tuškanac//Filmski programi//HR
BEGIN:VEVENT
UID:ac22de108f5018fa26265f273dba0377@kinotuskanac.hr
DTSTAMP:20260420T165545Z
DTSTART:20050415T200000
DTEND:20050415T220000
SUMMARY:Čime sam to zaslužila?
LOCATION:Kino Tuškanac
DESCRIPTION:Qué he hecho yo para merecer esto?, Španjolska, 1984 R: Pedro Almodóvar
END:VEVENT
END:VCALENDAR