BEGIN:VCALENDAR
VERSION:2.0
PRODID:-//Kino Tuškanac//Filmski programi//HR
BEGIN:VEVENT
UID:11949a256b206d877f4be07ec803b441@kinotuskanac.hr
DTSTAMP:20260424T155621Z
DTSTART:20190313T190000
DTEND:20190313T210000
SUMMARY:Ja sam Kuba
LOCATION:Kino Tuškanac
DESCRIPTION:Soy Cuba, Kuba, Sovjetski savez, 1964 R: Mihail Kalatozov
END:VEVENT
END:VCALENDAR