BEGIN:VCALENDAR
VERSION:2.0
PRODID:-//Kino Tuškanac//Filmski programi//HR
BEGIN:VEVENT
UID:c64ff92bba6d151e5ddf2fbc2690fb3d@kinotuskanac.hr
DTSTAMP:20260421T164317Z
DTSTART:20190314T190000
DTEND:20190314T210000
SUMMARY:Slatki život
LOCATION:Kino Tuškanac
DESCRIPTION:La dolce vita, Italija, Francuska, 1960 R: Federico Fellini
END:VEVENT
END:VCALENDAR