BEGIN:VCALENDAR
VERSION:2.0
PRODID:-//Kino Tuškanac//Filmski programi//HR
BEGIN:VEVENT
UID:53b579bbfe0491c7f42ee01d1c363f81@kinotuskanac.hr
DTSTAMP:20260420T115811Z
DTSTART:20190316T210000
DTEND:20190316T230000
SUMMARY:Spotlight
LOCATION:Kino Tuškanac
DESCRIPTION:SAD, 2015 R: Tom McCarthy
END:VEVENT
END:VCALENDAR