BEGIN:VCALENDAR
VERSION:2.0
PRODID:-//Kino Tuškanac//Filmski programi//HR
BEGIN:VEVENT
UID:9a308d00f7db3f17ea3e78077772c7e2@kinotuskanac.hr
DTSTAMP:20260420T165600Z
DTSTART:20190326T210000
DTEND:20190326T230000
SUMMARY:Matura
LOCATION:Kino Tuškanac
DESCRIPTION:Bacalaureat, Belgija, Francuska, Rumunjska, 2016 R: Cristian Mungiu
END:VEVENT
END:VCALENDAR