BEGIN:VCALENDAR
VERSION:2.0
PRODID:-//Kino Tuškanac//Filmski programi//HR
BEGIN:VEVENT
UID:36b76d5b035c6a611f08250b90b26c0d@kinotuskanac.hr
DTSTAMP:20260424T233933Z
DTSTART:20190403T210000
DTEND:20190403T230000
SUMMARY:Jutro
LOCATION:Kino Tuškanac
DESCRIPTION:Jugoslavija, 1967 R: Puriša Đorđević
END:VEVENT
END:VCALENDAR