BEGIN:VCALENDAR
VERSION:2.0
PRODID:-//Kino Tuškanac//Filmski programi//HR
BEGIN:VEVENT
UID:d750d1ffaddaea0a549d93ac0199c194@kinotuskanac.hr
DTSTAMP:20260425T031446Z
DTSTART:20190405T210000
DTEND:20190405T230000
SUMMARY:W. R. Misterije organizma
LOCATION:Kino Tuškanac
DESCRIPTION:Jugoslavija, SR Njemačka, 1971 R: Dušan Makavejev
END:VEVENT
END:VCALENDAR