BEGIN:VCALENDAR
VERSION:2.0
PRODID:-//Kino Tuškanac//Filmski programi//HR
BEGIN:VEVENT
UID:5f2b18f0c7abb2f9a58dcde6eba1caab@kinotuskanac.hr
DTSTAMP:20260423T143906Z
DTSTART:20190415T190000
DTEND:20190415T210000
SUMMARY:Strašna istina
LOCATION:Kino Tuškanac
DESCRIPTION:The Awful Truth, SAD, 1937 R: Leo McCarey
END:VEVENT
END:VCALENDAR