BEGIN:VCALENDAR
VERSION:2.0
PRODID:-//Kino Tuškanac//Filmski programi//HR
BEGIN:VEVENT
UID:bb2f53f7f8de488d8e02d95da7200e08@kinotuskanac.hr
DTSTAMP:20260423T111430Z
DTSTART:20190415T210000
DTEND:20190415T230000
SUMMARY:Prezir
LOCATION:Kino Tuškanac
DESCRIPTION:Le mépris, Francuska, Italija, 1963 R: Jean-Luc Godard
END:VEVENT
END:VCALENDAR