BEGIN:VCALENDAR
VERSION:2.0
PRODID:-//Kino Tuškanac//Filmski programi//HR
BEGIN:VEVENT
UID:41f4d2564230ac78805feda180266f0d@kinotuskanac.hr
DTSTAMP:20260423T145441Z
DTSTART:20190416T190000
DTEND:20190416T210000
SUMMARY:Putovanje u Italiju
LOCATION:Kino Tuškanac
DESCRIPTION:Viaggio in Italia, Italija, Francuska, 1954 R: Roberto Rossellini
END:VEVENT
END:VCALENDAR