BEGIN:VCALENDAR
VERSION:2.0
PRODID:-//Kino Tuškanac//Filmski programi//HR
BEGIN:VEVENT
UID:1dfec402faed2640b78db451545dd727@kinotuskanac.hr
DTSTAMP:20260423T143905Z
DTSTART:20190417T190000
DTEND:20190417T210000
SUMMARY:Ljubav poslijepodne
LOCATION:Kino Tuškanac
DESCRIPTION:L'amour l'après-midi, Francuska, 1972 | Mjesto prikazivanja filma: Kulturno informativni centar KIC (Preradovićeva ul. 5) R: Éric Rohmer
END:VEVENT
END:VCALENDAR