BEGIN:VCALENDAR
VERSION:2.0
PRODID:-//Kino Tuškanac//Filmski programi//HR
BEGIN:VEVENT
UID:07924b5aa97e68433dd19cce00a5c08a@kinotuskanac.hr
DTSTAMP:20260421T133335Z
DTSTART:20190418T190000
DTEND:20190418T210000
SUMMARY:Stromboli
LOCATION:Kino Tuškanac
DESCRIPTION:Italija, SAD, 1950 R: Roberto Rossellini
END:VEVENT
END:VCALENDAR