BEGIN:VCALENDAR
VERSION:2.0
PRODID:-//Kino Tuškanac//Filmski programi//HR
BEGIN:VEVENT
UID:d9c98ea1e7a943e242fa5fac336164e1@kinotuskanac.hr
DTSTAMP:20260420T170002Z
DTSTART:20190420T190000
DTEND:20190420T210000
SUMMARY:Žena pod utjecajem
LOCATION:Kino Tuškanac
DESCRIPTION:A Woman Under the Influence, SAD, 1974 R: John Cassavetes
END:VEVENT
END:VCALENDAR