BEGIN:VCALENDAR
VERSION:2.0
PRODID:-//Kino Tuškanac//Filmski programi//HR
BEGIN:VEVENT
UID:3d926aae20da31837d05940027865353@kinotuskanac.hr
DTSTAMP:20260423T113505Z
DTSTART:20190422T210000
DTEND:20190422T230000
SUMMARY:Još jedna godina
LOCATION:Kino Tuškanac
DESCRIPTION:Another Year, UK, 2010 R: Mike Leigh
END:VEVENT
END:VCALENDAR