BEGIN:VCALENDAR
VERSION:2.0
PRODID:-//Kino Tuškanac//Filmski programi//HR
BEGIN:VEVENT
UID:d555734b8ac9f1218976d053f1eb3d24@kinotuskanac.hr
DTSTAMP:20260423T143802Z
DTSTART:20190414T190000
DTEND:20190414T210000
SUMMARY:Tko se boji Virginije Woolf?
LOCATION:Kino Tuškanac
DESCRIPTION:Who's Afraid of Virginia Woolf?, SAD, 1966 R: Mike Nichols
END:VEVENT
END:VCALENDAR