BEGIN:VCALENDAR
VERSION:2.0
PRODID:-//Kino Tuškanac//Filmski programi//HR
BEGIN:VEVENT
UID:915a4bdd81c5d5d1b3e3ef6536b42287@kinotuskanac.hr
DTSTAMP:20260423T045301Z
DTSTART:20190504T190000
DTEND:20190504T210000
SUMMARY:Muha (1966)
LOCATION:Kino Tuškanac
DESCRIPTION:Jugoslavija, Zagreb film, 1966 R: Aleksandar Marks
END:VEVENT
END:VCALENDAR