BEGIN:VCALENDAR
VERSION:2.0
PRODID:-//Kino Tuškanac//Filmski programi//HR
BEGIN:VEVENT
UID:123832aedf15eb6ea6d07c53dafb9f81@kinotuskanac.hr
DTSTAMP:20260426T032030Z
DTSTART:20190502T210000
DTEND:20190502T230000
SUMMARY:Useljenik
LOCATION:Kino Tuškanac
DESCRIPTION:The Immigrant, SAD, 1917 R: Charles Chaplin
END:VEVENT
END:VCALENDAR