BEGIN:VCALENDAR
VERSION:2.0
PRODID:-//Kino Tuškanac//Filmski programi//HR
BEGIN:VEVENT
UID:30ba71faa435d203af80adc1e5e3ee82@kinotuskanac.hr
DTSTAMP:20260425T173949Z
DTSTART:20190510T210000
DTEND:20190510T230000
SUMMARY:Zatvor (1964)
LOCATION:Kino Tuškanac
DESCRIPTION:Brig, SAD, 1964 R: Jonas Mekas
END:VEVENT
END:VCALENDAR