BEGIN:VCALENDAR
VERSION:2.0
PRODID:-//Kino Tuškanac//Filmski programi//HR
BEGIN:VEVENT
UID:27be52e3beeb16df4037f15981773ad4@kinotuskanac.hr
DTSTAMP:20260424T182300Z
DTSTART:20190523T200000
DTEND:20190523T220000
SUMMARY:2001: Odiseja u svemiru
LOCATION:Kino Tuškanac
DESCRIPTION:2001: A Space Odyssey, SAD, UK, 1968 | Mjesto prikazivanja filma: Centar za kulturu Histrionski dom (Ilica 90) R: Stanley Kubrick
END:VEVENT
END:VCALENDAR