BEGIN:VCALENDAR
VERSION:2.0
PRODID:-//Kino Tuškanac//Filmski programi//HR
BEGIN:VEVENT
UID:76919e04fff05ca55f562ca70469f10f@kinotuskanac.hr
DTSTAMP:20260420T115103Z
DTSTART:20190521T211500
DTEND:20190521T231500
SUMMARY:Ljudi nedjeljom
LOCATION:Kino Tuškanac
DESCRIPTION:Menschen am Sonntag, Njemačka, 1929 R: Robert Siodmak
END:VEVENT
END:VCALENDAR