BEGIN:VCALENDAR
VERSION:2.0
PRODID:-//Kino Tuškanac//Filmski programi//HR
BEGIN:VEVENT
UID:6100e3c4c37545ae17b6aedfa170e143@kinotuskanac.hr
DTSTAMP:20260425T031523Z
DTSTART:20190522T190000
DTEND:20190522T210000
SUMMARY:Nanook sa sjevera
LOCATION:Kino Tuškanac
DESCRIPTION:Nanook of the North, SAD, Francuska, 1922 R: Robert J. Flaherty
END:VEVENT
END:VCALENDAR