BEGIN:VCALENDAR
VERSION:2.0
PRODID:-//Kino Tuškanac//Filmski programi//HR
BEGIN:VEVENT
UID:8905ab58ae705dc35c06d33c3e2ab6e2@kinotuskanac.hr
DTSTAMP:20260420T172031Z
DTSTART:20190524T210000
DTEND:20190524T230000
SUMMARY:Blago Sierra Madre
LOCATION:Kino Tuškanac
DESCRIPTION:The Treasure of Sierra Madre, SAD, 1948 R: John Huston
END:VEVENT
END:VCALENDAR